BEGIN:VCALENDAR
VERSION:2.0
PRODID:-//kinesfera - ECPv4.6.14.1//NONSGML v1.0//EN
CALSCALE:GREGORIAN
METHOD:PUBLISH
X-WR-CALNAME:kinesfera
X-ORIGINAL-URL:https://www.kinesfera.it/wordpress
X-WR-CALDESC:Events for kinesfera
BEGIN:VEVENT
DTSTART;TZID=Europe/Rome:20160409T153000
DTEND;TZID=Europe/Rome:20160409T183000
DTSTAMP:20260419T124536
CREATED:20160326T144242Z
LAST-MODIFIED:20250726T153007Z
UID:752-1460215800-1460226600@www.kinesfera.it
SUMMARY:FESTA LAB
DESCRIPTION:9 aprile – 15:30 – 18:30  “FESTA LAB” \n  \n  \nCon questa manifestazione concludiamo in festa i laboratori di artigianato\, da noi organizzati a partire da dicembre 2015\, e che hanno riscosso grande successo e numerosa partecipazione di adulti e bambini. \nDurante la Festa Lab\, si svolgeranno delle attività di laboratorio\, per grandi e piccoli insieme\, saranno esposte alcune opere degli artisti e artigiani che hanno condotto i laboratori\, e proietteremo il film di animazione “Circo Matto – Wishland” di Johannes Dimpflmeier. \nNon mancherà un momento di ristoro con le dolci creazioni realizzate da Martina e il suo gruppo di piccoli pasticceri! \n \n
URL:https://www.kinesfera.it/wordpress/evento/festa-lab/
LOCATION:Via Giuseppe Garibaldi\, 1\, Tuscania\, 01017\, Italia
CATEGORIES:archivio
ATTACH;FMTTYPE=image/jpeg:https://www.kinesfera.it/wordpress/wp-content/uploads/2016/04/Festa-Lab-per-FB2.jpg
END:VEVENT
END:VCALENDAR