BEGIN:VCALENDAR
VERSION:2.0
PRODID:-//kinesfera - ECPv4.6.14.1//NONSGML v1.0//EN
CALSCALE:GREGORIAN
METHOD:PUBLISH
X-WR-CALNAME:kinesfera
X-ORIGINAL-URL:https://www.kinesfera.it/wordpress
X-WR-CALDESC:Events for kinesfera
BEGIN:VEVENT
DTSTART;TZID=Europe/Rome:20220529T100000
DTEND;TZID=Europe/Rome:20220529T120000
DTSTAMP:20260419T142617
CREATED:20220417T163240Z
LAST-MODIFIED:20220503T201719Z
UID:3450-1653818400-1653825600@www.kinesfera.it
SUMMARY:Camminata poetica
DESCRIPTION:L’appuntamento è a CasaNave Alle Mura dove il gruppo di partecipanti è accolto da Viviana Ballini\, la nostra guida in questa camminata poetica che attraversa il centro storico di Tuscania. Viviana invita il pubblico a un’esperienza di condivisione e di risveglio a se stessi\, agli altri\, ai luoghi e all’ambiente grazie all’aprirsi di tutti i sensi\, all’essere presenti nel corpo. Durante il percorso\,  i/le camminatori/trici sono invitat* a soffermarsi in luoghi della città fortemente evocativi. In una di queste soste\, Gloria Desideri propone un’esperienza sul sentire e sul guardare\, in cui percezione interna ed esterna dialogano e si integrano. Proseguendo il cammino\, arrivati a una seconda stazione\, siamo invitati all’ascolto delle melodie e dei ritmi creati da Natalino Marchetti con la sua fisarmonica. Il cammino riprende infine verso l’ultima bellissima e suggestiva stazione dove Alessandro Fabrizi dà voce ai versi del poeta T.S. Eliot\, nel primo dei Quattro Quartetti\, Burnt Norton\, dedicato alla primavera\, all’aria\, allo scorrere del tempo. E qui si conclude il nostro cammino con un momento di condivisione e di saluto. \nViviana Ballini Si occupa di formazione e ricerca in diversi campi dell’innovazione sociale. Danzaterapeuta (allieva di Maria Fux). Ideatrice di cammini nella natura e a tema (Il cammino di Don Milani\, Terme Trek) in collaborazione con guide certificate. Pratica meditazione di consapevolezza nella tradizione di Thich Nhat Hanh.  \nGloria Desideri\, dal 2006 dirige i programmi di formazione Body-Mind Centering® in Italia. BMC® Teacher\, è inoltre diplomata in Kinetic Awareness™ e come Somatic Experiencing® Practitioner. Integra la sua esperienza di danzatrice professionista e coreografa\, con numerose pratiche di movimento e studi sul continuum corpo-mente.  \nNatalino Marchetti\, menzionato tra i migliori fisarmonicisti mondiali nell’Accordion’s and World’s Best Contemporary Accordionists\, è concertista in contesti jazzistici internazionali collaborando con i grandi nomi della scena contemporanea\, e spaziando in diversi stili musicali. Diplomato in pianoforte e in composizione\, è docente di educazione musicale nella scuola.  \nAlessandro Fabrizi\, regista\, attore\, insegna all’Accademia “Silvio D’Amico” di Roma. Regie teatrali: Aminta di Tasso (Teatro di Roma\, 2000); Bartleby the Scrivener da Melville (New York\, 2005); Metamorfosi (Lisbona\, 2006). Direttore artistico della Festa di Teatro Eco Logico a Stromboli per la quale ha curato diverse regie: La Tempesta\, Midsummer Night’s Dream di Shakespeare e La Favola del Figlio Cambiato di Pirandello.  \n\n\n\n\nTutte le proposte formativo-artistiche-culturali dell’Associazione Kinesfera sono per le socie e i soci.\nÈ possibile tesserarsi all’Associazione Kinesfera tramite bonifico o PayPal\, oppure di persona tutti i pomeriggi\, dal lunedì al venerdì dalle 15 alle 19\, presso CasaNave Alle Mura. \n\n\n\n\n\n\nIl biglietto di fruizione è di € 10\,00. Per i minori fino a 13 anni la partecipazione è gratuita. È consigliata la prenotazione. \nÈ possibile versare la quota associativa annuale e la quota di partecipazione la mattina stessa dell’evento avendo comunicato in anticipo i propri dati (nome\, cognome\, email\, telefono\, codice fiscale) al momento della prenotazione\, al numero 3755127096 o all’indirizzo info@kinesfera.it. \n\n\n\nPROSSIMO EVENTO DI GIUGNO \nPROGRAMMA COMPLETO \n  \n
URL:https://www.kinesfera.it/wordpress/evento/camminata-poetica/
LOCATION:Via Nazario Sauro 8\, Tuscania\, 01017\, Italia
ATTACH;FMTTYPE=image/jpeg:https://www.kinesfera.it/wordpress/wp-content/uploads/2022/04/Camminata-poetica-scaled.jpg
END:VEVENT
END:VCALENDAR