BEGIN:VCALENDAR
VERSION:2.0
PRODID:-//kinesfera - ECPv4.6.14.1//NONSGML v1.0//EN
CALSCALE:GREGORIAN
METHOD:PUBLISH
X-WR-CALNAME:kinesfera
X-ORIGINAL-URL:https://www.kinesfera.it/wordpress
X-WR-CALDESC:Events for kinesfera
BEGIN:VEVENT
DTSTART;TZID=Europe/Rome:20190713T213000
DTEND;TZID=Europe/Rome:20190713T233000
DTSTAMP:20260421T083042
CREATED:20190629T151710Z
LAST-MODIFIED:20211128T133050Z
UID:2211-1563053400-1563060600@www.kinesfera.it
SUMMARY:8 Bicester Road
DESCRIPTION:8 Bicester Road\nRegia di Simona Navarra Pivato \nPresentato dall’ Associazione di promozione sociale e culturale Kinesfera \nLo spettacolo di Simonetta Navarra spalanca una finestra sulle vite di chi consideriamo “diverso” da noi\, e l’aria che soffia da questa finestra aperta fa piazza pulita\, nella mente degli spettatori\, dai pregiudizi e dalle paure che spesso ci impediscono di rapportarci serenamente con persone per cui la vita ha disegnato un percorso differente dal nostro. Il presupposto dello spettacolo sta nella semplicità del suo assunto: solo abbattendo i muri che abbiamo alzato tra di noi possiamo finalmente guardarci negli occhi e concludere che le persone sono davvero tutte diverse tra loro ma che proprio per questo sono tutte uguali\, perché ogni esistenza è legata alle altre dal filo rosso della condizione umana\, della necessità di amare ed essere amati\, della ricerca costante della felicità che trascende ogni nostro limite. \nIngresso: 7 € \nLo spettacolo si svolgerà nell’ambito del Festival di Teatro Integrato “L’altro lato della Luna”\, organizzato dalla Cooperativa Sociale Gea onlus. \n \n
URL:https://www.kinesfera.it/wordpress/evento/8-bicester-road/
LOCATION:Via Galvaligi\, Nepi\, Viterbo\, 01036\, Italia
CATEGORIES:archivio
ATTACH;FMTTYPE=image/jpeg:https://www.kinesfera.it/wordpress/wp-content/uploads/2019/06/5.jpeg
END:VEVENT
END:VCALENDAR